BEGIN:VCALENDAR
VERSION:2.0
PRODID:-//Drais-Gemeinschaftsschule - ECPv6.15.20//NONSGML v1.0//EN
CALSCALE:GREGORIAN
METHOD:PUBLISH
X-ORIGINAL-URL:https://www.drais-schule.de
X-WR-CALDESC:Veranstaltungen für Drais-Gemeinschaftsschule
REFRESH-INTERVAL;VALUE=DURATION:PT1H
X-Robots-Tag:noindex
X-PUBLISHED-TTL:PT1H
BEGIN:VTIMEZONE
TZID:Europe/Berlin
BEGIN:DAYLIGHT
TZOFFSETFROM:+0100
TZOFFSETTO:+0200
TZNAME:CEST
DTSTART:20200329T010000
END:DAYLIGHT
BEGIN:STANDARD
TZOFFSETFROM:+0200
TZOFFSETTO:+0100
TZNAME:CET
DTSTART:20201025T010000
END:STANDARD
BEGIN:DAYLIGHT
TZOFFSETFROM:+0100
TZOFFSETTO:+0200
TZNAME:CEST
DTSTART:20210328T010000
END:DAYLIGHT
BEGIN:STANDARD
TZOFFSETFROM:+0200
TZOFFSETTO:+0100
TZNAME:CET
DTSTART:20211031T010000
END:STANDARD
BEGIN:DAYLIGHT
TZOFFSETFROM:+0100
TZOFFSETTO:+0200
TZNAME:CEST
DTSTART:20220327T010000
END:DAYLIGHT
BEGIN:STANDARD
TZOFFSETFROM:+0200
TZOFFSETTO:+0100
TZNAME:CET
DTSTART:20221030T010000
END:STANDARD
END:VTIMEZONE
BEGIN:VEVENT
DTSTART;TZID=Europe/Berlin:20211014T190000
DTEND;TZID=Europe/Berlin:20211014T203000
DTSTAMP:20260419T190852
CREATED:20210928T142644Z
LAST-MODIFIED:20210928T142644Z
UID:5780-1634238000-1634243400@www.drais-schule.de
SUMMARY:Elternbeiratssitzung
DESCRIPTION:
URL:https://www.drais-schule.de/termin/elternbeiratssitzung-2/
END:VEVENT
BEGIN:VEVENT
DTSTART;VALUE=DATE:20211020
DTEND;VALUE=DATE:20211021
DTSTAMP:20260419T190852
CREATED:20210928T143431Z
LAST-MODIFIED:20210928T143431Z
UID:5783-1634688000-1634774399@www.drais-schule.de
SUMMARY:Konferenz zur Schulentwicklung und Lehrerausflug
DESCRIPTION:Der Unterricht entfällt\, die Schülerinnen und Schüler erhalten Aufgaben. \nFür LG 5 bis 7 gibt es bei Bedarf ein Betreuungsangebot bis 13.30 Uhr. Bitte melden Sie Ihr Kind bis zum 13.10.2021 bei der LG-Leitung für dieses Angebot an.
URL:https://www.drais-schule.de/termin/konferenz-zur-schulentwicklung-und-lehrerausflug/
END:VEVENT
END:VCALENDAR