BEGIN:VCALENDAR
VERSION:2.0
PRODID:-//Drais-Gemeinschaftsschule - ECPv6.15.20//NONSGML v1.0//EN
CALSCALE:GREGORIAN
METHOD:PUBLISH
X-WR-CALNAME:Drais-Gemeinschaftsschule
X-ORIGINAL-URL:https://www.drais-schule.de
X-WR-CALDESC:Veranstaltungen für Drais-Gemeinschaftsschule
REFRESH-INTERVAL;VALUE=DURATION:PT1H
X-Robots-Tag:noindex
X-PUBLISHED-TTL:PT1H
BEGIN:VTIMEZONE
TZID:Europe/Berlin
BEGIN:DAYLIGHT
TZOFFSETFROM:+0100
TZOFFSETTO:+0200
TZNAME:CEST
DTSTART:20200329T010000
END:DAYLIGHT
BEGIN:STANDARD
TZOFFSETFROM:+0200
TZOFFSETTO:+0100
TZNAME:CET
DTSTART:20201025T010000
END:STANDARD
BEGIN:DAYLIGHT
TZOFFSETFROM:+0100
TZOFFSETTO:+0200
TZNAME:CEST
DTSTART:20210328T010000
END:DAYLIGHT
BEGIN:STANDARD
TZOFFSETFROM:+0200
TZOFFSETTO:+0100
TZNAME:CET
DTSTART:20211031T010000
END:STANDARD
BEGIN:DAYLIGHT
TZOFFSETFROM:+0100
TZOFFSETTO:+0200
TZNAME:CEST
DTSTART:20220327T010000
END:DAYLIGHT
BEGIN:STANDARD
TZOFFSETFROM:+0200
TZOFFSETTO:+0100
TZNAME:CET
DTSTART:20221030T010000
END:STANDARD
END:VTIMEZONE
BEGIN:VEVENT
DTSTART;TZID=Europe/Berlin:20210522T000000
DTEND;TZID=Europe/Berlin:20210606T000000
DTSTAMP:20260421T120506
CREATED:20210225T141136Z
LAST-MODIFIED:20210225T141136Z
UID:5144-1621641600-1622937600@www.drais-schule.de
SUMMARY:Pfingstferien
DESCRIPTION:
URL:https://www.drais-schule.de/termin/pfingstferien-2/
END:VEVENT
BEGIN:VEVENT
DTSTART;TZID=Europe/Berlin:20210608T080000
DTEND;TZID=Europe/Berlin:20210608T113000
DTSTAMP:20260421T120506
CREATED:20210225T172612Z
LAST-MODIFIED:20210225T172612Z
UID:5170-1623139200-1623151800@www.drais-schule.de
SUMMARY:Hauptschulabschlussprüfung Deutsch
DESCRIPTION:
URL:https://www.drais-schule.de/termin/hauptschulabschlusspruefung-deutsch-2/
END:VEVENT
BEGIN:VEVENT
DTSTART;TZID=Europe/Berlin:20210608T080000
DTEND;TZID=Europe/Berlin:20210608T123000
DTSTAMP:20260421T120506
CREATED:20210225T141925Z
LAST-MODIFIED:20210225T141925Z
UID:5147-1623139200-1623155400@www.drais-schule.de
SUMMARY:Realschul-Abschlussprüfung Deutsch
DESCRIPTION:
URL:https://www.drais-schule.de/termin/realschul-abschlusspruefung-deutsch/
END:VEVENT
BEGIN:VEVENT
DTSTART;TZID=Europe/Berlin:20210610T080000
DTEND;TZID=Europe/Berlin:20210610T105000
DTSTAMP:20260421T120506
CREATED:20210225T172725Z
LAST-MODIFIED:20210225T172725Z
UID:5173-1623312000-1623322200@www.drais-schule.de
SUMMARY:Hauptschulabschlussprüfung Mathematik
DESCRIPTION:
URL:https://www.drais-schule.de/termin/hauptschulabschlusspruefung-mathematik-2/
END:VEVENT
BEGIN:VEVENT
DTSTART;TZID=Europe/Berlin:20210610T080000
DTEND;TZID=Europe/Berlin:20210610T122000
DTSTAMP:20260421T120506
CREATED:20210225T142229Z
LAST-MODIFIED:20210225T142229Z
UID:5150-1623312000-1623327600@www.drais-schule.de
SUMMARY:Realschul-Abschlussprüfung Mathematik
DESCRIPTION:
URL:https://www.drais-schule.de/termin/realschul-abschlusspruefung-mathematik/
END:VEVENT
BEGIN:VEVENT
DTSTART;TZID=Europe/Berlin:20210615T080000
DTEND;TZID=Europe/Berlin:20210615T103500
DTSTAMP:20260421T120506
CREATED:20210225T172831Z
LAST-MODIFIED:20210225T172831Z
UID:5176-1623744000-1623753300@www.drais-schule.de
SUMMARY:Hauptschulabschlussprüfung Englisch
DESCRIPTION:
URL:https://www.drais-schule.de/termin/hauptschulabschlusspruefung-englisch-2/
END:VEVENT
BEGIN:VEVENT
DTSTART;TZID=Europe/Berlin:20210615T080000
DTEND;TZID=Europe/Berlin:20210615T110500
DTSTAMP:20260421T120506
CREATED:20210225T142416Z
LAST-MODIFIED:20210225T142416Z
UID:5153-1623744000-1623755100@www.drais-schule.de
SUMMARY:Realschul-Abschlussprüfung Englisch
DESCRIPTION:
URL:https://www.drais-schule.de/termin/realschul-abschlusspruefung-englisch/
END:VEVENT
BEGIN:VEVENT
DTSTART;TZID=Europe/Berlin:20210618T080000
DTEND;TZID=Europe/Berlin:20210618T101000
DTSTAMP:20260421T120506
CREATED:20210225T142927Z
LAST-MODIFIED:20210225T142927Z
UID:5156-1624003200-1624011000@www.drais-schule.de
SUMMARY:Realschul-Abschlussprüfung Wahlpflichtfach (F\, AES\, Te)
DESCRIPTION:Französisch 105 Minuten + 20 Minuten Pause \nAES 105 Minuten \nTechnik 105 Minuten
URL:https://www.drais-schule.de/termin/realschul-abschlusspruefung-wahlpflichtfach-f-aes-te/
END:VEVENT
BEGIN:VEVENT
DTSTART;TZID=Europe/Berlin:20210625T080000
DTEND;TZID=Europe/Berlin:20210625T113000
DTSTAMP:20260421T120506
CREATED:20210225T172918Z
LAST-MODIFIED:20210225T172918Z
UID:5179-1624608000-1624620600@www.drais-schule.de
SUMMARY:Nachtermin Hauptschulabschlussprüfung Deutsch
DESCRIPTION:
URL:https://www.drais-schule.de/termin/nachtermin-hauptschulabschlusspruefung-deutsch/
END:VEVENT
BEGIN:VEVENT
DTSTART;TZID=Europe/Berlin:20210625T080000
DTEND;TZID=Europe/Berlin:20210625T123000
DTSTAMP:20260421T120506
CREATED:20210225T143042Z
LAST-MODIFIED:20210225T143042Z
UID:5159-1624608000-1624624200@www.drais-schule.de
SUMMARY:Nachtermin Realschul-Abschlussprüfung Deutsch
DESCRIPTION:
URL:https://www.drais-schule.de/termin/nachtermin-realschul-abschlusspruefung-deutsch/
END:VEVENT
BEGIN:VEVENT
DTSTART;TZID=Europe/Berlin:20210628T080000
DTEND;TZID=Europe/Berlin:20210628T105000
DTSTAMP:20260421T120506
CREATED:20210225T174350Z
LAST-MODIFIED:20210225T174350Z
UID:5194-1624867200-1624877400@www.drais-schule.de
SUMMARY:Nachtermin Hauptschulabschlussprüfung Mathematik
DESCRIPTION:
URL:https://www.drais-schule.de/termin/nachtermin-hauptschulabschlusspruefung-mathematik/
END:VEVENT
BEGIN:VEVENT
DTSTART;TZID=Europe/Berlin:20210628T080000
DTEND;TZID=Europe/Berlin:20210628T122000
DTSTAMP:20260421T120506
CREATED:20210225T143213Z
LAST-MODIFIED:20210225T172226Z
UID:5162-1624867200-1624882800@www.drais-schule.de
SUMMARY:Nachtermin Realschul-Abschlussprüfung Mathematik
DESCRIPTION:
URL:https://www.drais-schule.de/termin/nachtermin-realschul-abschlusspruefung-mathematik/
END:VEVENT
BEGIN:VEVENT
DTSTART;TZID=Europe/Berlin:20210629T080000
DTEND;TZID=Europe/Berlin:20210629T103500
DTSTAMP:20260421T120506
CREATED:20210225T173128Z
LAST-MODIFIED:20210225T173128Z
UID:5185-1624953600-1624962900@www.drais-schule.de
SUMMARY:Nachtermin Hauptschulabschlussprüfung Englisch
DESCRIPTION:
URL:https://www.drais-schule.de/termin/nachtermin-hauptschulabschlusspruefung-englisch/
END:VEVENT
BEGIN:VEVENT
DTSTART;TZID=Europe/Berlin:20210629T080000
DTEND;TZID=Europe/Berlin:20210629T110500
DTSTAMP:20260421T120506
CREATED:20210225T143309Z
LAST-MODIFIED:20210225T173818Z
UID:5165-1624953600-1624964700@www.drais-schule.de
SUMMARY:Nachtermin Realschul-Abschlussprüfung Englisch
DESCRIPTION:
URL:https://www.drais-schule.de/termin/nachtermin-realschul-abschlusspruefung-englisch/
END:VEVENT
END:VCALENDAR