BEGIN:VCALENDAR
VERSION:2.0
PRODID:-//Drais-Gemeinschaftsschule - ECPv6.15.20//NONSGML v1.0//EN
CALSCALE:GREGORIAN
METHOD:PUBLISH
X-WR-CALNAME:Drais-Gemeinschaftsschule
X-ORIGINAL-URL:https://www.drais-schule.de
X-WR-CALDESC:Veranstaltungen für Drais-Gemeinschaftsschule
REFRESH-INTERVAL;VALUE=DURATION:PT1H
X-Robots-Tag:noindex
X-PUBLISHED-TTL:PT1H
BEGIN:VTIMEZONE
TZID:Europe/Berlin
BEGIN:DAYLIGHT
TZOFFSETFROM:+0100
TZOFFSETTO:+0200
TZNAME:CEST
DTSTART:20190331T010000
END:DAYLIGHT
BEGIN:STANDARD
TZOFFSETFROM:+0200
TZOFFSETTO:+0100
TZNAME:CET
DTSTART:20191027T010000
END:STANDARD
BEGIN:DAYLIGHT
TZOFFSETFROM:+0100
TZOFFSETTO:+0200
TZNAME:CEST
DTSTART:20200329T010000
END:DAYLIGHT
BEGIN:STANDARD
TZOFFSETFROM:+0200
TZOFFSETTO:+0100
TZNAME:CET
DTSTART:20201025T010000
END:STANDARD
BEGIN:DAYLIGHT
TZOFFSETFROM:+0100
TZOFFSETTO:+0200
TZNAME:CEST
DTSTART:20210328T010000
END:DAYLIGHT
BEGIN:STANDARD
TZOFFSETFROM:+0200
TZOFFSETTO:+0100
TZNAME:CET
DTSTART:20211031T010000
END:STANDARD
END:VTIMEZONE
BEGIN:VEVENT
DTSTART;VALUE=DATE:20200302
DTEND;VALUE=DATE:20200314
DTSTAMP:20260422T075728
CREATED:20191002T081849Z
LAST-MODIFIED:20191002T081849Z
UID:2771-1583107200-1584143999@www.drais-schule.de
SUMMARY:Handwerkscamp LG 8
DESCRIPTION:
URL:https://www.drais-schule.de/termin/handwerkscamp-lg-8/
END:VEVENT
BEGIN:VEVENT
DTSTART;TZID=Europe/Berlin:20200311T074500
DTEND;TZID=Europe/Berlin:20200311T093000
DTSTAMP:20260422T075728
CREATED:20200127T074532Z
LAST-MODIFIED:20200127T074532Z
UID:2969-1583912700-1583919000@www.drais-schule.de
SUMMARY:VERA 8 Deutsch LG 8abc
DESCRIPTION:Weitere Informationen unter\nhttps://ibbw.kultus-bw.de/site/pbs-bw-new/get/documents/KULTUS.Dachmandant/KULTUS/Dienststellen/ls-bw/Lernstandserhebungen/dokumente/vera8docs/v8_2020_hinweise_schueler_eltern.pdf
URL:https://www.drais-schule.de/termin/vera-8-deutsch-lg-8abc/
END:VEVENT
BEGIN:VEVENT
DTSTART;TZID=Europe/Berlin:20200311T140000
DTEND;TZID=Europe/Berlin:20200311T170000
DTSTAMP:20260422T075728
CREATED:20200127T075144Z
LAST-MODIFIED:20200127T075144Z
UID:2975-1583935200-1583946000@www.drais-schule.de
SUMMARY:Anmeldungen für Lerngruppe 5
DESCRIPTION:Liebe Eltern\, \nam 11.3. 2020 können Sie Ihr Kind von 14.00 bis 17.00 Uhr und am 12.3.2020 von 8.00 bis 12.00 Uhr anmelden. \nBitte bringen Sie folgende Unterlagen mit: \n–          Geburtsurkunde oder Reisepass \n–          Grundschulempfehlung \n–          Nachweis über alleiniges Sorgerecht oder schriftliche Zustimmung des zweiten Sorgeberechtigten \n–          Impfausweis für den Nachweis der Masernimpfung \n  \nSie erhalten am Tag der Anmeldung eine Anmeldebestätigung. Eine Aufnahmebestätigung wird Ihnen bis Anfang April auf dem Postweg zugeschickt. \nSollte eine Aufnahme nicht möglich sein\, geben wir Ihre Unterlagen an die von Ihnen als Zweitwunsch angegebene Schule weiter.
URL:https://www.drais-schule.de/termin/anmeldungen-fuer-lerngruppe-5/
END:VEVENT
BEGIN:VEVENT
DTSTART;TZID=Europe/Berlin:20200312T080000
DTEND;TZID=Europe/Berlin:20200312T120000
DTSTAMP:20260422T075728
CREATED:20200127T080216Z
LAST-MODIFIED:20200127T080216Z
UID:2977-1584000000-1584014400@www.drais-schule.de
SUMMARY:Anmeldungen für Lerngruppe 5
DESCRIPTION:Liebe Eltern\, \nam 11.3. 2020 können Sie Ihr Kind von 14.00 bis 17.00 Uhr und am 12.3.2020 von 8.00 bis 12.00 Uhr anmelden. \nBitte bringen Sie folgende Unterlagen mit: \n–          Geburtsurkunde oder Reisepass \n–          Grundschulempfehlung \n–          Nachweis über alleiniges Sorgerecht oder schriftliche Zustimmung des zweiten Sorgeberechtigten \n–          Impfausweis für den Nachweis der Masernimpfung \n  \nSie erhalten am Tag der Anmeldung eine Anmeldebestätigung. Eine Aufnahmebestätigung wird Ihnen bis Anfang April auf dem Postweg zugeschickt. \nSollte eine Aufnahme nicht möglich sein\, geben wir Ihre Unterlagen an die von Ihnen als Zweitwunsch angegebene Schule weiter.
URL:https://www.drais-schule.de/termin/anmeldungen-fuer-lerngruppe-5-2/
END:VEVENT
BEGIN:VEVENT
DTSTART;TZID=Europe/Berlin:20200313T074500
DTEND;TZID=Europe/Berlin:20200313T093000
DTSTAMP:20260422T075728
CREATED:20200127T074617Z
LAST-MODIFIED:20200127T074617Z
UID:2971-1584085500-1584091800@www.drais-schule.de
SUMMARY:VERA 8 Englisch LG 8abc
DESCRIPTION:Weitere Infos unter\nhttps://ibbw.kultus-bw.de/site/pbs-bw-new/get/documents/KULTUS.Dachmandant/KULTUS/Dienststellen/ls-bw/Lernstandserhebungen/dokumente/vera8docs/v8_2020_hinweise_schueler_eltern.pdf
URL:https://www.drais-schule.de/termin/vera-8-englisch-lg-8abc/
LOCATION:LG-Raum
END:VEVENT
BEGIN:VEVENT
DTSTART;TZID=Europe/Berlin:20200316T074500
DTEND;TZID=Europe/Berlin:20200316T093000
DTSTAMP:20260422T075728
CREATED:20200127T075015Z
LAST-MODIFIED:20200127T075015Z
UID:2973-1584344700-1584351000@www.drais-schule.de
SUMMARY:VERA 8 Mathematik LG 8abc - abgesagt
DESCRIPTION:VERA8 wurde aufgrund der landesweiten Schulschließungen vom Kultusministerium abgesagt.
URL:https://www.drais-schule.de/termin/vera-8-mathematik-lg-8abc/
LOCATION:LG-Raum
END:VEVENT
BEGIN:VEVENT
DTSTART;VALUE=DATE:20200318
DTEND;VALUE=DATE:20200319
DTSTAMP:20260422T075728
CREATED:20191002T081930Z
LAST-MODIFIED:20191002T081930Z
UID:2773-1584489600-1584575999@www.drais-schule.de
SUMMARY:Elternabende - werden verschoben
DESCRIPTION:Infos folgen
URL:https://www.drais-schule.de/termin/elternabende/
END:VEVENT
BEGIN:VEVENT
DTSTART;VALUE=DATE:20200319
DTEND;VALUE=DATE:20200320
DTSTAMP:20260422T075728
CREATED:20191002T082010Z
LAST-MODIFIED:20191002T082010Z
UID:2775-1584576000-1584662399@www.drais-schule.de
SUMMARY:Elternabende - werden verschoben
DESCRIPTION:Infos folgen
URL:https://www.drais-schule.de/termin/elternabende-2/
END:VEVENT
BEGIN:VEVENT
DTSTART;VALUE=DATE:20200327
DTEND;VALUE=DATE:20200328
DTSTAMP:20260422T075728
CREATED:20191002T082158Z
LAST-MODIFIED:20191002T082158Z
UID:2777-1585267200-1585353599@www.drais-schule.de
SUMMARY:Rückmeldungen Wahlfächer per E-Mail bis Fr\, 27.03.2020
DESCRIPTION:Liebe Eltern!\nWir bitten Sie\, aufgrund der Schließung der Schulen wegen der Corona-Pandemie die Entscheidungen über die Wahlfächer \nin diesem Schuljahr per E-Mail vorzunehmen.\n\n–> poststelle@drais-gms-ka.schule.bwl.de  /// Stichtag: Fr\, 27.03.2020\n(Name des Kindes / Lerngruppe (6/7/8) / gewähltes Fach).\n\nLG 5: Wahl der 2. Fremdsprache (F) ab LG 6   –> weitere Informationen\nLG 6: Wahl Technik oder AES ab LG 7   –> weitere Informationen\nLG 7: Wahl Profilfach NWT oder Sport ab LG 8   –> weitere Informationen\n\n–> Flyer zu den Wahlpflichtfächern (Ministerium für Kultus\, Jugend und Sport)
URL:https://www.drais-schule.de/termin/rueckmeldungen-wahlfaecher/
END:VEVENT
END:VCALENDAR