BEGIN:VCALENDAR
VERSION:2.0
PRODID:-//Drais-Gemeinschaftsschule - ECPv6.15.20//NONSGML v1.0//EN
CALSCALE:GREGORIAN
METHOD:PUBLISH
X-WR-CALNAME:Drais-Gemeinschaftsschule
X-ORIGINAL-URL:https://www.drais-schule.de
X-WR-CALDESC:Veranstaltungen für Drais-Gemeinschaftsschule
REFRESH-INTERVAL;VALUE=DURATION:PT1H
X-Robots-Tag:noindex
X-PUBLISHED-TTL:PT1H
BEGIN:VTIMEZONE
TZID:Europe/Berlin
BEGIN:DAYLIGHT
TZOFFSETFROM:+0100
TZOFFSETTO:+0200
TZNAME:CEST
DTSTART:20180325T010000
END:DAYLIGHT
BEGIN:STANDARD
TZOFFSETFROM:+0200
TZOFFSETTO:+0100
TZNAME:CET
DTSTART:20181028T010000
END:STANDARD
BEGIN:DAYLIGHT
TZOFFSETFROM:+0100
TZOFFSETTO:+0200
TZNAME:CEST
DTSTART:20190331T010000
END:DAYLIGHT
BEGIN:STANDARD
TZOFFSETFROM:+0200
TZOFFSETTO:+0100
TZNAME:CET
DTSTART:20191027T010000
END:STANDARD
BEGIN:DAYLIGHT
TZOFFSETFROM:+0100
TZOFFSETTO:+0200
TZNAME:CEST
DTSTART:20200329T010000
END:DAYLIGHT
BEGIN:STANDARD
TZOFFSETFROM:+0200
TZOFFSETTO:+0100
TZNAME:CET
DTSTART:20201025T010000
END:STANDARD
BEGIN:DAYLIGHT
TZOFFSETFROM:+0100
TZOFFSETTO:+0200
TZNAME:CEST
DTSTART:20210328T010000
END:DAYLIGHT
BEGIN:STANDARD
TZOFFSETFROM:+0200
TZOFFSETTO:+0100
TZNAME:CET
DTSTART:20211031T010000
END:STANDARD
END:VTIMEZONE
BEGIN:VEVENT
DTSTART;VALUE=DATE:20191216
DTEND;VALUE=DATE:20191217
DTSTAMP:20260422T114101
CREATED:20191002T081237Z
LAST-MODIFIED:20191002T081237Z
UID:2758-1576454400-1576540799@www.drais-schule.de
SUMMARY:Eislauftag in Waldbronn
DESCRIPTION:
URL:https://www.drais-schule.de/termin/eislauftag-in-waldbronn/
END:VEVENT
BEGIN:VEVENT
DTSTART;TZID=Europe/Berlin:20191218T170000
DTEND;TZID=Europe/Berlin:20191218T190000
DTSTAMP:20260422T114101
CREATED:20191002T081316Z
LAST-MODIFIED:20191002T081316Z
UID:2760-1576688400-1576695600@www.drais-schule.de
SUMMARY:Drais im Advent
DESCRIPTION:Liebe Eltern\, \nherzliche Einladung zu \n„Drais im Advent“ \nam Mittwoch\, 18. Dezember\, von 17 bis 19 Uhr. \nSchlendern Sie durch unser weihnachtlich geschmücktes Schulhaus und genießen Sie Punsch\, Waffeln\, Grillwürstchen und viele andere Leckereien. \nUnsere Schülerinnen und Schüler haben ein buntes Programm vorbereitet und eifrig gebastelt und gewerkelt. \nDie Einnahmen aus unserem Basar- und Getränkeverkauf werden an ein soziales Projekt gespendet bzw. kommen der SMV-Arbeit zu Gute. \nWir freuen uns auf Sie! \nDie Schulgemeinschaft der Drais-GMS
URL:https://www.drais-schule.de/termin/drais-im-advent/
END:VEVENT
BEGIN:VEVENT
DTSTART;TZID=Europe/Berlin:20191223T080000
DTEND;TZID=Europe/Berlin:20200107T170000
DTSTAMP:20260422T114101
CREATED:20191120T062834Z
LAST-MODIFIED:20191120T062834Z
UID:2807-1577088000-1578416400@www.drais-schule.de
SUMMARY:Weihnachtsferien
DESCRIPTION:
URL:https://www.drais-schule.de/termin/weihnachtsferien/
END:VEVENT
END:VCALENDAR