BEGIN:VCALENDAR
VERSION:2.0
PRODID:-//Drais-Gemeinschaftsschule - ECPv6.15.20//NONSGML v1.0//EN
CALSCALE:GREGORIAN
METHOD:PUBLISH
X-WR-CALNAME:Drais-Gemeinschaftsschule
X-ORIGINAL-URL:https://www.drais-schule.de
X-WR-CALDESC:Veranstaltungen für Drais-Gemeinschaftsschule
REFRESH-INTERVAL;VALUE=DURATION:PT1H
X-Robots-Tag:noindex
X-PUBLISHED-TTL:PT1H
BEGIN:VTIMEZONE
TZID:Europe/Berlin
BEGIN:DAYLIGHT
TZOFFSETFROM:+0100
TZOFFSETTO:+0200
TZNAME:CEST
DTSTART:20180325T010000
END:DAYLIGHT
BEGIN:STANDARD
TZOFFSETFROM:+0200
TZOFFSETTO:+0100
TZNAME:CET
DTSTART:20181028T010000
END:STANDARD
BEGIN:DAYLIGHT
TZOFFSETFROM:+0100
TZOFFSETTO:+0200
TZNAME:CEST
DTSTART:20190331T010000
END:DAYLIGHT
BEGIN:STANDARD
TZOFFSETFROM:+0200
TZOFFSETTO:+0100
TZNAME:CET
DTSTART:20191027T010000
END:STANDARD
BEGIN:DAYLIGHT
TZOFFSETFROM:+0100
TZOFFSETTO:+0200
TZNAME:CEST
DTSTART:20200329T010000
END:DAYLIGHT
BEGIN:STANDARD
TZOFFSETFROM:+0200
TZOFFSETTO:+0100
TZNAME:CET
DTSTART:20201025T010000
END:STANDARD
END:VTIMEZONE
BEGIN:VEVENT
DTSTART;VALUE=DATE:20191028
DTEND;VALUE=DATE:20191102
DTSTAMP:20260422T124447
CREATED:20190508T070024Z
LAST-MODIFIED:20190508T070024Z
UID:2645-1572220800-1572652799@www.drais-schule.de
SUMMARY:Herbstferien
DESCRIPTION:
URL:https://www.drais-schule.de/termin/herbstferien-2/
END:VEVENT
BEGIN:VEVENT
DTSTART;VALUE=DATE:20191104
DTEND;VALUE=DATE:20191109
DTSTAMP:20260422T124447
CREATED:20191002T081041Z
LAST-MODIFIED:20191002T081041Z
UID:2752-1572825600-1573257599@www.drais-schule.de
SUMMARY:BOGMS LG 9 a\,b\,c\,d
DESCRIPTION:
URL:https://www.drais-schule.de/termin/bogms-lg-9-abcd/
END:VEVENT
BEGIN:VEVENT
DTSTART;VALUE=DATE:20191104
DTEND;VALUE=DATE:20191116
DTSTAMP:20260422T124447
CREATED:20191002T081126Z
LAST-MODIFIED:20191002T081126Z
UID:2754-1572825600-1573862399@www.drais-schule.de
SUMMARY:Profil AC LG 8a\,b\,c
DESCRIPTION:
URL:https://www.drais-schule.de/termin/profil-ac-lg-8abc/
END:VEVENT
BEGIN:VEVENT
DTSTART;TZID=Europe/Berlin:20191114T190000
DTEND;TZID=Europe/Berlin:20191114T210000
DTSTAMP:20260422T124447
CREATED:20191002T081200Z
LAST-MODIFIED:20191002T081200Z
UID:2756-1573758000-1573765200@www.drais-schule.de
SUMMARY:Schulkonferenz
DESCRIPTION:
URL:https://www.drais-schule.de/termin/schulkonferenz-2/
END:VEVENT
BEGIN:VEVENT
DTSTART;TZID=Europe/Berlin:20191129T190000
DTEND;TZID=Europe/Berlin:20191129T200000
DTSTAMP:20260422T124447
CREATED:20191118T102910Z
LAST-MODIFIED:20191118T102910Z
UID:2805-1575054000-1575057600@www.drais-schule.de
SUMMARY:Gymnasiale Oberstufe an der Gemeinschaftsschule
DESCRIPTION:Informations- und Diskussionsveranstaltung: Gymnasiale Oberstufe an der Gemeinschaftsschule mit Charlotte Dreßen\, Konrektorin der Gebhard Gemeinschaftsschule Konstanz \nFreitag\, 29. November um 19.00 Uhr\, bei ver.di\, Rüppurrer Str. 1A\, 7. Stock \nDer Karlsruher Gemeinderat hat schon vor anderthalb Jahren einen Grundsatzbeschluss in Karlsruhe gefasst. Die Grünen freuen sich\, dass sie voraussichtlich zum Schuljahr 2021/22 an einer der vier öffentlichen Gemeinschaftsschulen in Karlsruhe eingerichtet wird. \nDamit wird ein langjähriges bildungspolitisches Ziel der Grünen und ein langjähriger Wunsch der Eltern\, die sich wegen der neuen Lernformen für die GMS für ihre Kinder entschieden haben\, endlich erfüllt. Das Schulgesetz sieht die Option einer Oberstufe am Ende der 10. Klasse ausdrücklich vor\, wenn bestimmte Voraussetzungen\, u.a. mindestens 60 Schülerinnen- und Schüler in der Eingangsstufe\, erreicht werden. \nMit der Einrichtung einer gymnasialen Oberstufe an einer Gemeinschaftsschule betrifft die Stadt Karlsruhe Neuland. Häufig wird gefragt: Wie sieht eigentlich die pädagogische Ausgestaltung einer gymnasialen Oberstufe  an einer Gemeinschaftsschule aus? Was ist dabei der Mehrwert für die Schüler- und Schülerinnen? \nZu diesen Fragen wurde die stellvertretende Schulleiterin der GMS Konstanz\, Charlotte Dreßen\, eingeladen. Die GMS Konstanz befindet sich bereits im zweiten Jahr der Oberstufe. Ihr liegen deshalb bereits wichtige Erfahrungen und Erkenntnisse über die Ausgestaltung der Oberstufe und ihre konzeptionelle Weiterentwicklung vor. \nDie Veranstaltung findet am Freitag\, 29.11.19 um 19 Uhr bei ver.di\, Rüppurrer Str. 1a\, 7. Stock\, statt.
URL:https://www.drais-schule.de/termin/gymnasiale-oberstufe-an-der-gemeinschaftsschule/
END:VEVENT
END:VCALENDAR