BEGIN:VCALENDAR
VERSION:2.0
PRODID:-//Drais-Gemeinschaftsschule - ECPv6.15.20//NONSGML v1.0//EN
CALSCALE:GREGORIAN
METHOD:PUBLISH
X-WR-CALNAME:Drais-Gemeinschaftsschule
X-ORIGINAL-URL:https://www.drais-schule.de
X-WR-CALDESC:Veranstaltungen für Drais-Gemeinschaftsschule
REFRESH-INTERVAL;VALUE=DURATION:PT1H
X-Robots-Tag:noindex
X-PUBLISHED-TTL:PT1H
BEGIN:VTIMEZONE
TZID:Europe/Berlin
BEGIN:DAYLIGHT
TZOFFSETFROM:+0100
TZOFFSETTO:+0200
TZNAME:CEST
DTSTART:20180325T010000
END:DAYLIGHT
BEGIN:STANDARD
TZOFFSETFROM:+0200
TZOFFSETTO:+0100
TZNAME:CET
DTSTART:20181028T010000
END:STANDARD
BEGIN:DAYLIGHT
TZOFFSETFROM:+0100
TZOFFSETTO:+0200
TZNAME:CEST
DTSTART:20190331T010000
END:DAYLIGHT
BEGIN:STANDARD
TZOFFSETFROM:+0200
TZOFFSETTO:+0100
TZNAME:CET
DTSTART:20191027T010000
END:STANDARD
BEGIN:DAYLIGHT
TZOFFSETFROM:+0100
TZOFFSETTO:+0200
TZNAME:CEST
DTSTART:20200329T010000
END:DAYLIGHT
BEGIN:STANDARD
TZOFFSETFROM:+0200
TZOFFSETTO:+0100
TZNAME:CET
DTSTART:20201025T010000
END:STANDARD
END:VTIMEZONE
BEGIN:VEVENT
DTSTART;VALUE=DATE:20190701
DTEND;VALUE=DATE:20190702
DTSTAMP:20260422T174015
CREATED:20190508T070042Z
LAST-MODIFIED:20190508T070042Z
UID:2619-1561939200-1562025599@www.drais-schule.de
SUMMARY:Mündliche Prüfungen LG 10 - Mittlere Reife
DESCRIPTION:
URL:https://www.drais-schule.de/termin/muendliche-pruefungen-lg-10-mittlere-reife/
END:VEVENT
BEGIN:VEVENT
DTSTART;TZID=Europe/Berlin:20190703T190000
DTEND;TZID=Europe/Berlin:20190703T190000
DTSTAMP:20260422T174015
CREATED:20190508T070043Z
LAST-MODIFIED:20190508T070043Z
UID:2621-1562180400-1562180400@www.drais-schule.de
SUMMARY:Schulkonferenz
DESCRIPTION:
URL:https://www.drais-schule.de/termin/schulkonferenz/
END:VEVENT
BEGIN:VEVENT
DTSTART;TZID=Europe/Berlin:20190706T160000
DTEND;TZID=Europe/Berlin:20190707T160000
DTSTAMP:20260422T174015
CREATED:20190508T070038Z
LAST-MODIFIED:20190508T070038Z
UID:2623-1562428800-1562515200@www.drais-schule.de
SUMMARY:Teilnahme am 24h-Lauf
DESCRIPTION:
URL:https://www.drais-schule.de/termin/teilnahme-am-24h-lauf/
END:VEVENT
BEGIN:VEVENT
DTSTART;VALUE=DATE:20190708
DTEND;VALUE=DATE:20190710
DTSTAMP:20260422T174015
CREATED:20190508T070039Z
LAST-MODIFIED:20190508T070039Z
UID:2625-1562544000-1562716799@www.drais-schule.de
SUMMARY:Mündliche Prüfungen LG 9 / 10 - Hauptschulprüfung
DESCRIPTION:
URL:https://www.drais-schule.de/termin/muendliche-pruefungen-lg-9-10-hauptschulpruefung/
END:VEVENT
BEGIN:VEVENT
DTSTART;VALUE=DATE:20190708
DTEND;VALUE=DATE:20190720
DTSTAMP:20260422T174015
CREATED:20190508T070044Z
LAST-MODIFIED:20190508T070044Z
UID:2627-1562544000-1563580799@www.drais-schule.de
SUMMARY:Lernberatungsgespräche
DESCRIPTION:
URL:https://www.drais-schule.de/termin/lernberatungsgespraeche/
END:VEVENT
BEGIN:VEVENT
DTSTART;VALUE=DATE:20190715
DTEND;VALUE=DATE:20190716
DTSTAMP:20260422T174015
CREATED:20190508T070026Z
LAST-MODIFIED:20190508T070026Z
UID:2629-1563148800-1563235199@www.drais-schule.de
SUMMARY:Fussballturnier
DESCRIPTION:
URL:https://www.drais-schule.de/termin/fussballturnier/
END:VEVENT
BEGIN:VEVENT
DTSTART;TZID=Europe/Berlin:20190718T173000
DTEND;TZID=Europe/Berlin:20190718T223000
DTSTAMP:20260422T174015
CREATED:20190508T070053Z
LAST-MODIFIED:20190508T070053Z
UID:2631-1563471000-1563489000@www.drais-schule.de
SUMMARY:Abschlussfeier für die LG 9b\, 10a\, 10b\, 10c\, 10d
DESCRIPTION:Einlass ab 17.30 Uhr\, Beginn 18.00 Uhr
URL:https://www.drais-schule.de/termin/abschlussfeier-fuer-die-lg-9b-10a-10b-10c-10d/
END:VEVENT
BEGIN:VEVENT
DTSTART;VALUE=DATE:20190719
DTEND;VALUE=DATE:20190724
DTSTAMP:20260422T174015
CREATED:20190508T070043Z
LAST-MODIFIED:20190508T070043Z
UID:2633-1563494400-1563926399@www.drais-schule.de
SUMMARY:Projekttage
DESCRIPTION:
URL:https://www.drais-schule.de/termin/projekttage/
END:VEVENT
BEGIN:VEVENT
DTSTART;TZID=Europe/Berlin:20190724T140000
DTEND;TZID=Europe/Berlin:20190724T163000
DTSTAMP:20260422T174015
CREATED:20190508T070042Z
LAST-MODIFIED:20190508T070042Z
UID:2639-1563976800-1563985800@www.drais-schule.de
SUMMARY:Projektpräsentation
DESCRIPTION:
URL:https://www.drais-schule.de/termin/projektpraesentation/
END:VEVENT
BEGIN:VEVENT
DTSTART;VALUE=DATE:20190725
DTEND;VALUE=DATE:20190726
DTSTAMP:20260422T174015
CREATED:20190508T070013Z
LAST-MODIFIED:20190508T070013Z
UID:2637-1564012800-1564099199@www.drais-schule.de
SUMMARY:Schwimmbadtag Rheinstrandbad
DESCRIPTION:
URL:https://www.drais-schule.de/termin/schwimmbadtag-rheinstrandbad/
END:VEVENT
BEGIN:VEVENT
DTSTART;VALUE=DATE:20190726
DTEND;VALUE=DATE:20190727
DTSTAMP:20260422T174015
CREATED:20190508T070024Z
LAST-MODIFIED:20190508T070024Z
UID:2641-1564099200-1564185599@www.drais-schule.de
SUMMARY:Letzter Schultag
DESCRIPTION:
URL:https://www.drais-schule.de/termin/letzter-schultag/
END:VEVENT
BEGIN:VEVENT
DTSTART;VALUE=DATE:20190729
DTEND;VALUE=DATE:20190911
DTSTAMP:20260422T174015
CREATED:20190508T070049Z
LAST-MODIFIED:20190508T070049Z
UID:2643-1564358400-1568159999@www.drais-schule.de
SUMMARY:Sommerferien
DESCRIPTION:
URL:https://www.drais-schule.de/termin/sommerferien-2/
END:VEVENT
END:VCALENDAR