BEGIN:VCALENDAR
VERSION:2.0
PRODID:-//Drais-Gemeinschaftsschule - ECPv6.15.20//NONSGML v1.0//EN
CALSCALE:GREGORIAN
METHOD:PUBLISH
X-ORIGINAL-URL:https://www.drais-schule.de
X-WR-CALDESC:Veranstaltungen für Drais-Gemeinschaftsschule
REFRESH-INTERVAL;VALUE=DURATION:PT1H
X-Robots-Tag:noindex
X-PUBLISHED-TTL:PT1H
BEGIN:VTIMEZONE
TZID:Europe/Berlin
BEGIN:DAYLIGHT
TZOFFSETFROM:+0100
TZOFFSETTO:+0200
TZNAME:CEST
DTSTART:20180325T010000
END:DAYLIGHT
BEGIN:STANDARD
TZOFFSETFROM:+0200
TZOFFSETTO:+0100
TZNAME:CET
DTSTART:20181028T010000
END:STANDARD
BEGIN:DAYLIGHT
TZOFFSETFROM:+0100
TZOFFSETTO:+0200
TZNAME:CEST
DTSTART:20190331T010000
END:DAYLIGHT
BEGIN:STANDARD
TZOFFSETFROM:+0200
TZOFFSETTO:+0100
TZNAME:CET
DTSTART:20191027T010000
END:STANDARD
BEGIN:DAYLIGHT
TZOFFSETFROM:+0100
TZOFFSETTO:+0200
TZNAME:CEST
DTSTART:20200329T010000
END:DAYLIGHT
BEGIN:STANDARD
TZOFFSETFROM:+0200
TZOFFSETTO:+0100
TZNAME:CET
DTSTART:20201025T010000
END:STANDARD
END:VTIMEZONE
BEGIN:VEVENT
DTSTART;VALUE=DATE:20190603
DTEND;VALUE=DATE:20190608
DTSTAMP:20260422T184717
CREATED:20190508T070037Z
LAST-MODIFIED:20190508T070037Z
UID:2611-1559520000-1559951999@www.drais-schule.de
SUMMARY:3. Beratungstermin FÜK für LG 10
DESCRIPTION:
URL:https://www.drais-schule.de/termin/3-beratungstermin-fuek-fuer-lg-10/
END:VEVENT
BEGIN:VEVENT
DTSTART;VALUE=DATE:20190604
DTEND;VALUE=DATE:20190605
DTSTAMP:20260422T184717
CREATED:20190508T070009Z
LAST-MODIFIED:20190508T070009Z
UID:2613-1559606400-1559692799@www.drais-schule.de
SUMMARY:Entscheidung über die mündlichen Prüfungsfächer LG 10
DESCRIPTION:
URL:https://www.drais-schule.de/termin/entscheidung-ueber-die-muendlichen-pruefungsfaecher-lg-10/
END:VEVENT
BEGIN:VEVENT
DTSTART;VALUE=DATE:20190604
DTEND;VALUE=DATE:20190605
DTSTAMP:20260422T184717
CREATED:20190508T070009Z
LAST-MODIFIED:20190508T070009Z
UID:2615-1559606400-1559692799@www.drais-schule.de
SUMMARY:Verkauf der Eintrittskarten für die Abschlussfeier
DESCRIPTION:
URL:https://www.drais-schule.de/termin/verkauf-der-eintrittskarten-fuer-die-abschlussfeier/
END:VEVENT
BEGIN:VEVENT
DTSTART;VALUE=DATE:20190605
DTEND;VALUE=DATE:20190608
DTSTAMP:20260422T184717
CREATED:20190508T070014Z
LAST-MODIFIED:20190508T070014Z
UID:2649-1559692800-1559951999@www.drais-schule.de
SUMMARY:Lerngruppenfahrten 5a\, 5b\, 5c
DESCRIPTION:
URL:https://www.drais-schule.de/termin/lerngruppenfahrten-5a-5b-5c/
END:VEVENT
BEGIN:VEVENT
DTSTART;VALUE=DATE:20190605
DTEND;VALUE=DATE:20190608
DTSTAMP:20260422T184717
CREATED:20190513T060018Z
LAST-MODIFIED:20190513T060018Z
UID:2661-1559692800-1559951999@www.drais-schule.de
SUMMARY:Profilfach Sport Triathlon
DESCRIPTION:
URL:https://www.drais-schule.de/termin/profilfach-sport-triathlon/
END:VEVENT
BEGIN:VEVENT
DTSTART;VALUE=DATE:20190611
DTEND;VALUE=DATE:20190622
DTSTAMP:20260422T184717
CREATED:20180601T055352Z
LAST-MODIFIED:20180601T055352Z
UID:694-1560211200-1561161599@www.drais-schule.de
SUMMARY:Pfingstferien
DESCRIPTION:
URL:https://www.drais-schule.de/termin/pfingstferien/
ATTACH;FMTTYPE=:
END:VEVENT
BEGIN:VEVENT
DTSTART;VALUE=DATE:20190624
DTEND;VALUE=DATE:20190629
DTSTAMP:20260422T184717
CREATED:20190508T070045Z
LAST-MODIFIED:20190508T070045Z
UID:2617-1561334400-1561766399@www.drais-schule.de
SUMMARY:Lerngruppenfahrten LG 7a\, 7b\, 7c
DESCRIPTION:
URL:https://www.drais-schule.de/termin/lerngruppenfahrten-lg-7a-7b-7c/
END:VEVENT
END:VCALENDAR