BEGIN:VCALENDAR
VERSION:2.0
PRODID:-//Drais-Gemeinschaftsschule - ECPv6.15.20//NONSGML v1.0//EN
CALSCALE:GREGORIAN
METHOD:PUBLISH
X-ORIGINAL-URL:https://www.drais-schule.de
X-WR-CALDESC:Veranstaltungen für Drais-Gemeinschaftsschule
REFRESH-INTERVAL;VALUE=DURATION:PT1H
X-Robots-Tag:noindex
X-PUBLISHED-TTL:PT1H
BEGIN:VTIMEZONE
TZID:Europe/Berlin
BEGIN:DAYLIGHT
TZOFFSETFROM:+0100
TZOFFSETTO:+0200
TZNAME:CEST
DTSTART:20180325T010000
END:DAYLIGHT
BEGIN:STANDARD
TZOFFSETFROM:+0200
TZOFFSETTO:+0100
TZNAME:CET
DTSTART:20181028T010000
END:STANDARD
BEGIN:DAYLIGHT
TZOFFSETFROM:+0100
TZOFFSETTO:+0200
TZNAME:CEST
DTSTART:20190331T010000
END:DAYLIGHT
BEGIN:STANDARD
TZOFFSETFROM:+0200
TZOFFSETTO:+0100
TZNAME:CET
DTSTART:20191027T010000
END:STANDARD
BEGIN:DAYLIGHT
TZOFFSETFROM:+0100
TZOFFSETTO:+0200
TZNAME:CEST
DTSTART:20200329T010000
END:DAYLIGHT
BEGIN:STANDARD
TZOFFSETFROM:+0200
TZOFFSETTO:+0100
TZNAME:CET
DTSTART:20201025T010000
END:STANDARD
END:VTIMEZONE
BEGIN:VEVENT
DTSTART;TZID=Europe/Berlin:20190213T174500
DTEND;TZID=Europe/Berlin:20190213T203000
DTSTAMP:20260422T224244
CREATED:20190114T210402Z
LAST-MODIFIED:20190114T210402Z
UID:2549-1550079900-1550089800@www.drais-schule.de
SUMMARY:Tag der offenen Tür
DESCRIPTION:Wir freuen uns auf Ihren Besuch und Ihr Interesse an unserer Schule! \n\n\nAngebot für Eltern\nAngebot für Schüler/-innen\n\n\n17.45 Uhr: Ankommen\, erste Möglichkeiten zum Austausch\nImbiss von süß bis herzhaft\n18.10 – 18.30 Uhr: Schüler\, Lehrer und Eltern stellen ihre Schule vor (Mensa)\n\n17.45 Uhr: Ankommen\, erste Möglichkeiten zum Austausch\nImbiss von süß bis herzhaft\n18.10 – 18.30 Uhr: Schüler\, Lehrer und Eltern stellen ihre Schule vor (Mensa)\n\n\n18.35 – 19.45 Uhr: Präsentation des Konzepts der Drais-GMS mit Fragerunde und Austausch.\n18.35 – 19.45 Uhr: „Drais-Lerntagebuch“\nUnterhaltsamer und lehrreicher\nZehn-Minuten-Unterricht\n\n\n19.15 – 20.30 Uhr: Imbiss und Austausch\, Schulhausbesichtigung\n19.45 – 20.30 Uhr: Imbiss und Austausch\, Schulhausbesichtigung
URL:https://www.drais-schule.de/termin/tag-der-offenen-tuer/
END:VEVENT
END:VCALENDAR