BEGIN:VCALENDAR
VERSION:2.0
PRODID:-//Drais-Gemeinschaftsschule - ECPv6.15.20//NONSGML v1.0//EN
CALSCALE:GREGORIAN
METHOD:PUBLISH
X-ORIGINAL-URL:https://www.drais-schule.de
X-WR-CALDESC:Veranstaltungen für Drais-Gemeinschaftsschule
REFRESH-INTERVAL;VALUE=DURATION:PT1H
X-Robots-Tag:noindex
X-PUBLISHED-TTL:PT1H
BEGIN:VTIMEZONE
TZID:Europe/Berlin
BEGIN:DAYLIGHT
TZOFFSETFROM:+0100
TZOFFSETTO:+0200
TZNAME:CEST
DTSTART:20200329T010000
END:DAYLIGHT
BEGIN:STANDARD
TZOFFSETFROM:+0200
TZOFFSETTO:+0100
TZNAME:CET
DTSTART:20201025T010000
END:STANDARD
BEGIN:DAYLIGHT
TZOFFSETFROM:+0100
TZOFFSETTO:+0200
TZNAME:CEST
DTSTART:20210328T010000
END:DAYLIGHT
BEGIN:STANDARD
TZOFFSETFROM:+0200
TZOFFSETTO:+0100
TZNAME:CET
DTSTART:20211031T010000
END:STANDARD
BEGIN:DAYLIGHT
TZOFFSETFROM:+0100
TZOFFSETTO:+0200
TZNAME:CEST
DTSTART:20220327T010000
END:DAYLIGHT
BEGIN:STANDARD
TZOFFSETFROM:+0200
TZOFFSETTO:+0100
TZNAME:CET
DTSTART:20221030T010000
END:STANDARD
END:VTIMEZONE
BEGIN:VEVENT
DTSTART;TZID=Europe/Berlin:20210928T183000
DTEND;TZID=Europe/Berlin:20210928T210000
DTSTAMP:20260419T203424
CREATED:20210927T141933Z
LAST-MODIFIED:20210927T142135Z
UID:5757-1632853800-1632862800@www.drais-schule.de
SUMMARY:Elternabende Jahrgang 8\, 10\, 11
DESCRIPTION:Heute finden die Elternabende der Jahrgänge 8\, 10 und 11 statt. Die Anfangszeiten sind den Einladungen zu entnehmen. Bitte denken Sie an die Einhaltung der 3G-Regel. Zur Teilnahme am Elternabend ist die Vorlage des Impf- oder Genesenennachweises oder ein aktueller negativer Testnachweis erforderlich.
URL:https://www.drais-schule.de/termin/elternabende-jahrgang-8-10-11/
END:VEVENT
END:VCALENDAR