BEGIN:VCALENDAR
VERSION:2.0
PRODID:-//Drais-Gemeinschaftsschule - ECPv6.15.20//NONSGML v1.0//EN
CALSCALE:GREGORIAN
METHOD:PUBLISH
X-ORIGINAL-URL:https://www.drais-schule.de
X-WR-CALDESC:Veranstaltungen für Drais-Gemeinschaftsschule
REFRESH-INTERVAL;VALUE=DURATION:PT1H
X-Robots-Tag:noindex
X-PUBLISHED-TTL:PT1H
BEGIN:VTIMEZONE
TZID:Europe/Berlin
BEGIN:DAYLIGHT
TZOFFSETFROM:+0100
TZOFFSETTO:+0200
TZNAME:CEST
DTSTART:20200329T010000
END:DAYLIGHT
BEGIN:STANDARD
TZOFFSETFROM:+0200
TZOFFSETTO:+0100
TZNAME:CET
DTSTART:20201025T010000
END:STANDARD
BEGIN:DAYLIGHT
TZOFFSETFROM:+0100
TZOFFSETTO:+0200
TZNAME:CEST
DTSTART:20210328T010000
END:DAYLIGHT
BEGIN:STANDARD
TZOFFSETFROM:+0200
TZOFFSETTO:+0100
TZNAME:CET
DTSTART:20211031T010000
END:STANDARD
BEGIN:DAYLIGHT
TZOFFSETFROM:+0100
TZOFFSETTO:+0200
TZNAME:CEST
DTSTART:20220327T010000
END:DAYLIGHT
BEGIN:STANDARD
TZOFFSETFROM:+0200
TZOFFSETTO:+0100
TZNAME:CET
DTSTART:20221030T010000
END:STANDARD
END:VTIMEZONE
BEGIN:VEVENT
DTSTART;TZID=Europe/Berlin:20210618T080000
DTEND;TZID=Europe/Berlin:20210618T101000
DTSTAMP:20260421T132357
CREATED:20210225T142927Z
LAST-MODIFIED:20210225T142927Z
UID:5156-1624003200-1624011000@www.drais-schule.de
SUMMARY:Realschul-Abschlussprüfung Wahlpflichtfach (F\, AES\, Te)
DESCRIPTION:Französisch 105 Minuten + 20 Minuten Pause \nAES 105 Minuten \nTechnik 105 Minuten
URL:https://www.drais-schule.de/termin/realschul-abschlusspruefung-wahlpflichtfach-f-aes-te/
END:VEVENT
END:VCALENDAR