BEGIN:VCALENDAR
VERSION:2.0
PRODID:-//Drais-Gemeinschaftsschule - ECPv6.15.20//NONSGML v1.0//EN
CALSCALE:GREGORIAN
METHOD:PUBLISH
X-ORIGINAL-URL:https://www.drais-schule.de
X-WR-CALDESC:Veranstaltungen für Drais-Gemeinschaftsschule
REFRESH-INTERVAL;VALUE=DURATION:PT1H
X-Robots-Tag:noindex
X-PUBLISHED-TTL:PT1H
BEGIN:VTIMEZONE
TZID:Europe/Berlin
BEGIN:DAYLIGHT
TZOFFSETFROM:+0100
TZOFFSETTO:+0200
TZNAME:CEST
DTSTART:20200329T010000
END:DAYLIGHT
BEGIN:STANDARD
TZOFFSETFROM:+0200
TZOFFSETTO:+0100
TZNAME:CET
DTSTART:20201025T010000
END:STANDARD
BEGIN:DAYLIGHT
TZOFFSETFROM:+0100
TZOFFSETTO:+0200
TZNAME:CEST
DTSTART:20210328T010000
END:DAYLIGHT
BEGIN:STANDARD
TZOFFSETFROM:+0200
TZOFFSETTO:+0100
TZNAME:CET
DTSTART:20211031T010000
END:STANDARD
BEGIN:DAYLIGHT
TZOFFSETFROM:+0100
TZOFFSETTO:+0200
TZNAME:CEST
DTSTART:20220327T010000
END:DAYLIGHT
BEGIN:STANDARD
TZOFFSETFROM:+0200
TZOFFSETTO:+0100
TZNAME:CET
DTSTART:20221030T010000
END:STANDARD
END:VTIMEZONE
BEGIN:VEVENT
DTSTART;TZID=Europe/Berlin:20210608T080000
DTEND;TZID=Europe/Berlin:20210608T113000
DTSTAMP:20260421T143422
CREATED:20210225T172612Z
LAST-MODIFIED:20210225T172612Z
UID:5170-1623139200-1623151800@www.drais-schule.de
SUMMARY:Hauptschulabschlussprüfung Deutsch
DESCRIPTION:
URL:https://www.drais-schule.de/termin/hauptschulabschlusspruefung-deutsch-2/
END:VEVENT
BEGIN:VEVENT
DTSTART;TZID=Europe/Berlin:20210608T080000
DTEND;TZID=Europe/Berlin:20210608T123000
DTSTAMP:20260421T143422
CREATED:20210225T141925Z
LAST-MODIFIED:20210225T141925Z
UID:5147-1623139200-1623155400@www.drais-schule.de
SUMMARY:Realschul-Abschlussprüfung Deutsch
DESCRIPTION:
URL:https://www.drais-schule.de/termin/realschul-abschlusspruefung-deutsch/
END:VEVENT
END:VCALENDAR