BEGIN:VCALENDAR
VERSION:2.0
PRODID:-//Drais-Gemeinschaftsschule - ECPv6.15.20//NONSGML v1.0//EN
CALSCALE:GREGORIAN
METHOD:PUBLISH
X-ORIGINAL-URL:https://www.drais-schule.de
X-WR-CALDESC:Veranstaltungen für Drais-Gemeinschaftsschule
REFRESH-INTERVAL;VALUE=DURATION:PT1H
X-Robots-Tag:noindex
X-PUBLISHED-TTL:PT1H
BEGIN:VTIMEZONE
TZID:Europe/Berlin
BEGIN:DAYLIGHT
TZOFFSETFROM:+0100
TZOFFSETTO:+0200
TZNAME:CEST
DTSTART:20200329T010000
END:DAYLIGHT
BEGIN:STANDARD
TZOFFSETFROM:+0200
TZOFFSETTO:+0100
TZNAME:CET
DTSTART:20201025T010000
END:STANDARD
BEGIN:DAYLIGHT
TZOFFSETFROM:+0100
TZOFFSETTO:+0200
TZNAME:CEST
DTSTART:20210328T010000
END:DAYLIGHT
BEGIN:STANDARD
TZOFFSETFROM:+0200
TZOFFSETTO:+0100
TZNAME:CET
DTSTART:20211031T010000
END:STANDARD
BEGIN:DAYLIGHT
TZOFFSETFROM:+0100
TZOFFSETTO:+0200
TZNAME:CEST
DTSTART:20220327T010000
END:DAYLIGHT
BEGIN:STANDARD
TZOFFSETFROM:+0200
TZOFFSETTO:+0100
TZNAME:CET
DTSTART:20221030T010000
END:STANDARD
END:VTIMEZONE
BEGIN:VEVENT
DTSTART;TZID=Europe/Berlin:20210225T190000
DTEND;TZID=Europe/Berlin:20210225T200000
DTSTAMP:20260421T184021
CREATED:20210211T084303Z
LAST-MODIFIED:20210211T084303Z
UID:4847-1614279600-1614283200@www.drais-schule.de
SUMMARY:ONLINE- Fragestunde OBERSTUFE - Teil 2
DESCRIPTION:DANKE!\nHerzlichen Dank an alle Interessierte für Ihre Teilnahme an den Fragestunden Teil 1! \nBesonderer Dank gilt außerdem unseren drei Schüler*innen-Referenten aus der GMS-Oberstufe Tübingen-West! \n\nNach dem erfolgreichen Start der Online-Fragestunden werden wir einen weiteren Termin anbieten. \nDo\, 25.02.2021 –> 19:00 – 20:00 Uhr\n\nBitte nutzen Sie zur Anmeldung für die Online-Fragestunde das nachfolgende Online-Formular. \n\n  \n			\n				\n	\n	\n		\n	\n	\n	\n		\n	\n				\n		\n			\n				\n				\n				\n				\n	\n		\n				Lass dieses Feld leer\n	\n										\n	\n		\n						\n				\n			Vorname\n										\n								\n			\n			\n		\n		\n			\n			\n			\n				\n				\n							\n\n			\n			\n					\n	\n\n\n	\n		\n						\n				\n			Nachname\n										\n								\n			\n			\n		\n		\n			\n			\n			\n				\n				\n							\n\n			\n			\n					\n	\n\n\n		\n						\n				\n			E-Mail-Adresse\n										\n								\n			\n			\n		\n		\n			\n			\n			\n				\n							\n\n			\n			\n					\n	\n\n\n	\n						\n				\n			Wir möchten an der Fragestunde teilnehmen. Weitere Fragen im Vorfeld können hier gestellt werden.\n													(optional)\n					\n			\n			\n		\n		\n			\n						\n			\n			\n					\n	\n\n						\n		Absenden\n			\n\n			\n\n	\n\n\nWir freuen uns sehr auf Ihre / Eure Teilnahme! \nHerzliche Grüße \nHeike Willamowski \n\n  \n  \nBitte beachten Sie\, dass der  –>Aufnahmeantrag  für die Drais-Oberstufe bis zum Montag\, den  08.03.2021 bei uns eingegangen sein muss. \n  \n  \n\n–> Aufnahmeantrag OBERSTUFE.pdf           –> Infobroschüre zur Drais-OBERSTUFE.pdf
URL:https://www.drais-schule.de/termin/online-fragestunde-oberstufe-teil-2/
END:VEVENT
END:VCALENDAR