BEGIN:VCALENDAR
VERSION:2.0
PRODID:-//Drais-Gemeinschaftsschule - ECPv6.15.20//NONSGML v1.0//EN
CALSCALE:GREGORIAN
METHOD:PUBLISH
X-ORIGINAL-URL:https://www.drais-schule.de
X-WR-CALDESC:Veranstaltungen für Drais-Gemeinschaftsschule
REFRESH-INTERVAL;VALUE=DURATION:PT1H
X-Robots-Tag:noindex
X-PUBLISHED-TTL:PT1H
BEGIN:VTIMEZONE
TZID:Europe/Berlin
BEGIN:DAYLIGHT
TZOFFSETFROM:+0100
TZOFFSETTO:+0200
TZNAME:CEST
DTSTART:20200329T010000
END:DAYLIGHT
BEGIN:STANDARD
TZOFFSETFROM:+0200
TZOFFSETTO:+0100
TZNAME:CET
DTSTART:20201025T010000
END:STANDARD
BEGIN:DAYLIGHT
TZOFFSETFROM:+0100
TZOFFSETTO:+0200
TZNAME:CEST
DTSTART:20210328T010000
END:DAYLIGHT
BEGIN:STANDARD
TZOFFSETFROM:+0200
TZOFFSETTO:+0100
TZNAME:CET
DTSTART:20211031T010000
END:STANDARD
BEGIN:DAYLIGHT
TZOFFSETFROM:+0100
TZOFFSETTO:+0200
TZNAME:CEST
DTSTART:20220327T010000
END:DAYLIGHT
BEGIN:STANDARD
TZOFFSETFROM:+0200
TZOFFSETTO:+0100
TZNAME:CET
DTSTART:20221030T010000
END:STANDARD
END:VTIMEZONE
BEGIN:VEVENT
DTSTART;TZID=Europe/Berlin:20210210T170000
DTEND;TZID=Europe/Berlin:20210210T194500
DTSTAMP:20260421T184022
CREATED:20210131T200642Z
LAST-MODIFIED:20210210T204057Z
UID:4702-1612976400-1612986300@www.drais-schule.de
SUMMARY:Online-Fragestunde - OBERSTUFE
DESCRIPTION:Für Schülerinnen\, Schüler und Eltern mit Interesse an einer Anmeldung für die gymnasiale Oberstufe an der Drais-GMS \n\nAm Mittwoch\, den 10.02.2021 laden wir alle Interessierten herzlich zu einer digitalen Fragestunde zur gymnasialen Oberstufe an der Drais-GMS ein. \nEine Fragestunde dauert 45 Minuten und ist jeweils auf 10 Teilnehmende begrenzt\, um ausreichend Möglichkeit zur interaktiven Kommunikation zu geben. \nZeitgleich finden zu jedem Termin drei Fragestunden statt\, in denen die Schulleitung und gymnasiale Lehrkräfte ihre Anfragen beantworten werden. \nBisher konnten alle Anfragen berücksichtigt werden. Sie erhalten am Dienstag\, den 09.02. eine persönliche Einladung mit dem erforderlichen Link zur Veranstaltung und Hinweisen zur Anwendung. Eine stabile Internetverbindung und ein Mikrofon sind für eine aktive Teilnahme notwendig. \nBitte nutzen Sie zur Terminvergabe das nachfolgende Online-Formular. \n  \nWir freuen uns sehr auf Ihre / Eure Teilnahme! \n  \nHerzliche Grüße \nHeike Willamowski
URL:https://www.drais-schule.de/termin/online-fragestunde-oberstufe/
END:VEVENT
END:VCALENDAR