BEGIN:VCALENDAR
VERSION:2.0
PRODID:-//Drais-Gemeinschaftsschule - ECPv6.15.20//NONSGML v1.0//EN
CALSCALE:GREGORIAN
METHOD:PUBLISH
X-WR-CALNAME:Drais-Gemeinschaftsschule
X-ORIGINAL-URL:https://www.drais-schule.de
X-WR-CALDESC:Veranstaltungen für Drais-Gemeinschaftsschule
REFRESH-INTERVAL;VALUE=DURATION:PT1H
X-Robots-Tag:noindex
X-PUBLISHED-TTL:PT1H
BEGIN:VTIMEZONE
TZID:Europe/Berlin
BEGIN:DAYLIGHT
TZOFFSETFROM:+0100
TZOFFSETTO:+0200
TZNAME:CEST
DTSTART:20190331T010000
END:DAYLIGHT
BEGIN:STANDARD
TZOFFSETFROM:+0200
TZOFFSETTO:+0100
TZNAME:CET
DTSTART:20191027T010000
END:STANDARD
BEGIN:DAYLIGHT
TZOFFSETFROM:+0100
TZOFFSETTO:+0200
TZNAME:CEST
DTSTART:20200329T010000
END:DAYLIGHT
BEGIN:STANDARD
TZOFFSETFROM:+0200
TZOFFSETTO:+0100
TZNAME:CET
DTSTART:20201025T010000
END:STANDARD
BEGIN:DAYLIGHT
TZOFFSETFROM:+0100
TZOFFSETTO:+0200
TZNAME:CEST
DTSTART:20210328T010000
END:DAYLIGHT
BEGIN:STANDARD
TZOFFSETFROM:+0200
TZOFFSETTO:+0100
TZNAME:CET
DTSTART:20211031T010000
END:STANDARD
BEGIN:DAYLIGHT
TZOFFSETFROM:+0100
TZOFFSETTO:+0200
TZNAME:CEST
DTSTART:20220327T010000
END:DAYLIGHT
BEGIN:STANDARD
TZOFFSETFROM:+0200
TZOFFSETTO:+0100
TZNAME:CET
DTSTART:20221030T010000
END:STANDARD
END:VTIMEZONE
BEGIN:VEVENT
DTSTART;VALUE=DATE:20201223
DTEND;VALUE=DATE:20210110
DTSTAMP:20260421T211126
CREATED:20191120T064013Z
LAST-MODIFIED:20201217T192600Z
UID:2819-1608681600-1610236799@www.drais-schule.de
SUMMARY:Weihnachtsferien
DESCRIPTION:  \n\n\n\n\nAktuelle Informationen über den Lockdown ab Mittwoch\, 16.12.2020\n\n\nSchulen und Kitas werden geschlossen: Schulen und Kindertageseinrichtungen sowie Einrichtungen der Kindertagespflege werden ab Mittwoch\, 16. Dezember 2020 bis einschließlich 10. Januar 2021 geschlossen.\nSchülerinnen und Schüler der Abschussjahrgänge werden bis zum 23. Dezember verpflichtend im Fernunterricht unterrichtet.\nFür die Schülerinnen und Schüler der Jahrgänge 5-8 (und 9\, sofern nicht Abschlussjahrgang) werden die Ferien entsprechend vorgezogen.\nNotbetreuung: Für Schülerinnen und Schüler der Klassenstufen 1 bis 7\, deren Eltern zwingend darauf angewiesen sind\, wird im Zeitraum 16. bis 22. Dezember an den regulären Schultagen eine Notbetreuung eingerichtet.\nAnspruch auf Notbetreuung haben Kinder\, bei denen beide Erziehungsberechtigte beziehungsweise die oder der Alleinerziehende von ihrem Arbeitgeber als unabkömmlich gelten. Dies gilt für Präsenzarbeitsplätze sowie für Home-Office-Arbeitsplätze gleichermaßen. Auch Kinder\, für deren Kindeswohl eine Betreuung notwendig ist\, haben einen Anspruch auf Notbetreuung.\n\n\n\n\n\n\n–> WEITERE INFOS – Pressemitteilung des Kultusministeriums vom 13.12.20 <–\n 
URL:https://www.drais-schule.de/termin/weihnachtsferien-2020/
END:VEVENT
END:VCALENDAR