BEGIN:VCALENDAR
VERSION:2.0
PRODID:-//Drais-Gemeinschaftsschule - ECPv6.15.20//NONSGML v1.0//EN
CALSCALE:GREGORIAN
METHOD:PUBLISH
X-WR-CALNAME:Drais-Gemeinschaftsschule
X-ORIGINAL-URL:https://www.drais-schule.de
X-WR-CALDESC:Veranstaltungen für Drais-Gemeinschaftsschule
REFRESH-INTERVAL;VALUE=DURATION:PT1H
X-Robots-Tag:noindex
X-PUBLISHED-TTL:PT1H
BEGIN:VTIMEZONE
TZID:Europe/Berlin
BEGIN:DAYLIGHT
TZOFFSETFROM:+0100
TZOFFSETTO:+0200
TZNAME:CEST
DTSTART:20190331T010000
END:DAYLIGHT
BEGIN:STANDARD
TZOFFSETFROM:+0200
TZOFFSETTO:+0100
TZNAME:CET
DTSTART:20191027T010000
END:STANDARD
BEGIN:DAYLIGHT
TZOFFSETFROM:+0100
TZOFFSETTO:+0200
TZNAME:CEST
DTSTART:20200329T010000
END:DAYLIGHT
BEGIN:STANDARD
TZOFFSETFROM:+0200
TZOFFSETTO:+0100
TZNAME:CET
DTSTART:20201025T010000
END:STANDARD
BEGIN:DAYLIGHT
TZOFFSETFROM:+0100
TZOFFSETTO:+0200
TZNAME:CEST
DTSTART:20210328T010000
END:DAYLIGHT
BEGIN:STANDARD
TZOFFSETFROM:+0200
TZOFFSETTO:+0100
TZNAME:CET
DTSTART:20211031T010000
END:STANDARD
END:VTIMEZONE
BEGIN:VEVENT
DTSTART;TZID=Europe/Berlin:20200701T080000
DTEND;TZID=Europe/Berlin:20200701T080000
DTSTAMP:20260422T035947
CREATED:20200513T125650Z
LAST-MODIFIED:20200513T125650Z
UID:3270-1593590400-1593590400@www.drais-schule.de
SUMMARY:2. Nachtermin Realschulabschlussprüfung Deutsch
DESCRIPTION:
URL:https://www.drais-schule.de/termin/2-nachtermin-realschulabschlusspruefung-deutsch/
END:VEVENT
BEGIN:VEVENT
DTSTART;TZID=Europe/Berlin:20200701T083000
DTEND;TZID=Europe/Berlin:20200701T083000
DTSTAMP:20260422T035947
CREATED:20200513T125723Z
LAST-MODIFIED:20200513T125723Z
UID:3272-1593592200-1593592200@www.drais-schule.de
SUMMARY:1. Nachtermin Hauptschulabschlussprüfung Deutsch
DESCRIPTION:
URL:https://www.drais-schule.de/termin/1-nachtermin-hauptschulabschlusspruefung-deutsch/
END:VEVENT
END:VCALENDAR